BEGIN:VCALENDAR
VERSION:2.0
PRODID:-//Plone.org//NONSGML plone.app.event//EN
X-WR-TIMEZONE:Europe/Paris
BEGIN:VEVENT
SUMMARY:Un nouveau veilleur à l'église de Maillot
DTSTART;TZID=Europe/Paris;VALUE=DATE-TIME:20230514T093000
DTEND;TZID=Europe/Paris;VALUE=DATE-TIME:20230514T103000
DTSTAMP;VALUE=DATE-TIME:20260424T123725Z
UID:f2668fa4deb44694ad8f44145bc7078f@www.yonne.catholique.fr
CREATED;VALUE=DATE-TIME:20230517T162932Z
DESCRIPTION:Laurent D. a reçu des mains du Père Benoît les clés de l'
 église\, dimanche 14 mai.
LAST-MODIFIED;VALUE=DATE-TIME:20240619T184624Z
LOCATION:Eglise de Saint-Clément
URL:https://www.yonne.catholique.fr/sainte-colombe/la-vie-paroissiale/actu
 alite-paroissiale/un-nouveau-veilleur-a-leglise-de-maillot
END:VEVENT
BEGIN:VTIMEZONE
TZID:Europe/Paris
X-LIC-LOCATION:Europe/Paris
BEGIN:DAYLIGHT
DTSTART;VALUE=DATE-TIME:20230326T030000
TZNAME:CEST
TZOFFSETFROM:+0100
TZOFFSETTO:+0200
END:DAYLIGHT
END:VTIMEZONE
END:VCALENDAR
