BEGIN:VCALENDAR
VERSION:2.0
PRODID:-//Plone.org//NONSGML plone.app.event//EN
X-WR-TIMEZONE:Europe/Paris
BEGIN:VEVENT
SUMMARY:Fraternité Sainte Colombe
DTSTART;TZID=Europe/Vienna;VALUE=DATE-TIME:20220309T100000
DTEND;TZID=Europe/Vienna;VALUE=DATE-TIME:20220309T113000
DTSTAMP;VALUE=DATE-TIME:20260420T033515Z
UID:58a6119108794513b6d8467597b001bd@www.yonne.catholique.fr
CONTACT:Paroisse Sainte Hombeline en Bourgogne
CREATED;VALUE=DATE-TIME:20220303T132252Z
DESCRIPTION:Rencontre de la fraternité
LAST-MODIFIED;VALUE=DATE-TIME:20220305T130102Z
LOCATION:Salle Paroissiale de Ravières
URL:https://www.yonne.catholique.fr/sainte-hombeline-site/actualite-parois
 siale/agenda/fraternite-sainte-colombe
END:VEVENT
BEGIN:VTIMEZONE
TZID:Europe/Vienna
X-LIC-LOCATION:Europe/Vienna
BEGIN:STANDARD
DTSTART;VALUE=DATE-TIME:20211031T020000
TZNAME:CET
TZOFFSETFROM:+0200
TZOFFSETTO:+0100
END:STANDARD
END:VTIMEZONE
END:VCALENDAR
