BEGIN:VCALENDAR
VERSION:2.0
PRODID:-//Plone.org//NONSGML plone.app.event//EN
X-WR-TIMEZONE:Europe/Paris
BEGIN:VEVENT
SUMMARY:Rencontre de l'équipe du Rosaire
DTSTART;TZID=Europe/Vienna;VALUE=DATE-TIME:20220308T143000
DTEND;TZID=Europe/Vienna;VALUE=DATE-TIME:20220308T153000
DTSTAMP;VALUE=DATE-TIME:20260420T002336Z
UID:b8fda9136bd24e7589aee21919db404a@www.yonne.catholique.fr
CREATED;VALUE=DATE-TIME:20220305T113723Z
LAST-MODIFIED;VALUE=DATE-TIME:20220305T114417Z
LOCATION:Salle paroissiale de Ravières
URL:https://www.yonne.catholique.fr/sainte-hombeline-site/actualite-parois
 siale/agenda/rencontre-de-lequipe-du-rosaire
END:VEVENT
BEGIN:VTIMEZONE
TZID:Europe/Vienna
X-LIC-LOCATION:Europe/Vienna
BEGIN:STANDARD
DTSTART;VALUE=DATE-TIME:20211031T020000
TZNAME:CET
TZOFFSETFROM:+0200
TZOFFSETTO:+0100
END:STANDARD
END:VTIMEZONE
END:VCALENDAR
