BEGIN:VCALENDAR
VERSION:2.0
PRODID:-//Plone.org//NONSGML plone.app.event//EN
X-WR-TIMEZONE:Europe/Paris
BEGIN:VEVENT
SUMMARY:Vigile Pascale
DTSTART;TZID=Europe/Paris;VALUE=DATE-TIME:20220416T210000
DTEND;TZID=Europe/Paris;VALUE=DATE-TIME:20220416T220000
DTSTAMP;VALUE=DATE-TIME:20260420T001649Z
UID:6618a484fb64464a90652dc4150507b9@www.yonne.catholique.fr
CREATED;VALUE=DATE-TIME:20220409T092020Z
LAST-MODIFIED;VALUE=DATE-TIME:20220409T092030Z
LOCATION:Eglise de Ravières
URL:https://www.yonne.catholique.fr/sainte-hombeline-site/actualite-parois
 siale/agenda/vigile-pascale
END:VEVENT
BEGIN:VTIMEZONE
TZID:Europe/Paris
X-LIC-LOCATION:Europe/Paris
BEGIN:DAYLIGHT
DTSTART;VALUE=DATE-TIME:20220327T030000
TZNAME:CEST
TZOFFSETFROM:+0100
TZOFFSETTO:+0200
END:DAYLIGHT
END:VTIMEZONE
END:VCALENDAR
