BEGIN:VCALENDAR
VERSION:2.0
PRODID:-//Plone.org//NONSGML plone.app.event//EN
X-WR-TIMEZONE:Europe/Paris
BEGIN:VEVENT
SUMMARY:Adoration et confessions chaque vendredi de Carême
DTSTART;TZID=Europe/Paris;VALUE=DATE-TIME:20260320T110000
DTEND;TZID=Europe/Paris;VALUE=DATE-TIME:20260320T120000
DTSTAMP;VALUE=DATE-TIME:20260422T184113Z
UID:c9c5859cc9944d4db774e5d75ea33490@www.yonne.catholique.fr
CONTACT:paroisse.s.pallaye@icloud.com\, paroisse.s.pallaye@icloud.com
CREATED;VALUE=DATE-TIME:20260306T141242Z
DESCRIPTION:Adoration eucharistique et confessions.
LAST-MODIFIED;VALUE=DATE-TIME:20260306T141331Z
LOCATION:Église de Vermenton
URL:https://www.yonne.catholique.fr/sainte-pallaye/actualite-paroissiale/a
 genda/adoration-et-confessions-vendredi-de-careme5
END:VEVENT
BEGIN:VTIMEZONE
TZID:Europe/Paris
X-LIC-LOCATION:Europe/Paris
BEGIN:STANDARD
DTSTART;VALUE=DATE-TIME:20251026T020000
TZNAME:CET
TZOFFSETFROM:+0200
TZOFFSETTO:+0100
END:STANDARD
END:VTIMEZONE
END:VCALENDAR
