BEGIN:VCALENDAR
VERSION:2.0
PRODID:-//Plone.org//NONSGML plone.app.event//EN
X-WR-TIMEZONE:Europe/Paris
BEGIN:VEVENT
SUMMARY:Adoration et confessions chaque vendredi de Carême
DTSTART;TZID=Europe/Paris;VALUE=DATE-TIME:20260403T110000
DTEND;TZID=Europe/Paris;VALUE=DATE-TIME:20260403T120000
DTSTAMP;VALUE=DATE-TIME:20260422T200455Z
UID:c9c5859cc9944d4db774e5d75ea33490@www.yonne.catholique.fr
CONTACT:paroisse.s.pallaye@icloud.com\, paroisse.s.pallaye@icloud.com
CREATED;VALUE=DATE-TIME:20260306T141525Z
DESCRIPTION:Adoration eucharistique et confessions.
LAST-MODIFIED;VALUE=DATE-TIME:20260306T142047Z
LOCATION:Église de Vermenton
URL:https://www.yonne.catholique.fr/sainte-pallaye/actualite-paroissiale/a
 genda/adoration-et-confessions-vendredi-de-careme7
END:VEVENT
BEGIN:VTIMEZONE
TZID:Europe/Paris
X-LIC-LOCATION:Europe/Paris
BEGIN:DAYLIGHT
DTSTART;VALUE=DATE-TIME:20260329T030000
TZNAME:CEST
TZOFFSETFROM:+0100
TZOFFSETTO:+0200
END:DAYLIGHT
END:VTIMEZONE
END:VCALENDAR
