BEGIN:VCALENDAR
VERSION:2.0
PRODID:-//Plone.org//NONSGML plone.app.event//EN
X-WR-TIMEZONE:Europe/Paris
BEGIN:VEVENT
SUMMARY:Premières communion
DTSTART;TZID=Europe/Paris;VALUE=DATE-TIME:20240602T110000
DTSTAMP;VALUE=DATE-TIME:20260420T190532Z
UID:60485f3df1264fd49bc724a047c4e6e0@www.yonne.catholique.fr
CONTACT:contact@paroissesaintepallaye.fr\, contact@paroissesaintepallaye.f
 r
CREATED;VALUE=DATE-TIME:20240311T143538Z
LAST-MODIFIED;VALUE=DATE-TIME:20240315T093221Z
LOCATION:église de Vermenton
URL:https://www.yonne.catholique.fr/sainte-pallaye/actualite-paroissiale/a
 genda/premieres-communion
END:VEVENT
BEGIN:VTIMEZONE
TZID:Europe/Paris
X-LIC-LOCATION:Europe/Paris
BEGIN:DAYLIGHT
DTSTART;VALUE=DATE-TIME:20240331T030000
TZNAME:CEST
TZOFFSETFROM:+0100
TZOFFSETTO:+0200
END:DAYLIGHT
END:VTIMEZONE
END:VCALENDAR
