BEGIN:VCALENDAR
VERSION:2.0
PRODID:-//Plone.org//NONSGML plone.app.event//EN
X-WR-TIMEZONE:Europe/Paris
BEGIN:VEVENT
SUMMARY:Répétition des chants
DTSTART;TZID=Europe/Paris;VALUE=DATE-TIME:20240325T183000
DTSTAMP;VALUE=DATE-TIME:20260421T012433Z
UID:7050662f1c2b48d9bc6eaeb9fa6c9a8f@www.yonne.catholique.fr
CONTACT:M. Dominique Charlot - dominiquecharlot89@gmail.com\, 06 11 40 15 
 55\, dominiquecharlot89@gmail.com
CREATED;VALUE=DATE-TIME:20240319T090335Z
DESCRIPTION:Une fois par mois\, retrouvons-nous pour préparer les chants 
 des Messes. La rencontre du 25 mars 2024 nous permettra de répéter les c
 hants pour les fêtes Pascales. 
LAST-MODIFIED;VALUE=DATE-TIME:20240319T102336Z
LOCATION:Coulanges-la-Vineuse\, Maison paroissiale (29\, rue André Vildie
 u)
URL:https://www.yonne.catholique.fr/sainte-pallaye/actualite-paroissiale/a
 genda/repetition-des-chants
END:VEVENT
BEGIN:VTIMEZONE
TZID:Europe/Paris
X-LIC-LOCATION:Europe/Paris
BEGIN:STANDARD
DTSTART;VALUE=DATE-TIME:20231029T020000
TZNAME:CET
TZOFFSETFROM:+0200
TZOFFSETTO:+0100
END:STANDARD
END:VTIMEZONE
END:VCALENDAR
