BEGIN:VCALENDAR
VERSION:2.0
PRODID:-//Plone.org//NONSGML plone.app.event//EN
X-WR-TIMEZONE:Europe/Paris
BEGIN:VEVENT
SUMMARY:Assemblée paroissiale extraordinaire
DTSTART;TZID=Europe/Paris;VALUE=DATE-TIME:20260327T180000
DTSTAMP;VALUE=DATE-TIME:20260420T101232Z
UID:7df90809b23d4c1397a83ee3f0395dcf@www.yonne.catholique.fr
CONTACT:P. Christophe Champenois
CREATED;VALUE=DATE-TIME:20260305T075727Z
DESCRIPTION:Où en est notre paroisse au sujet du devenir de l’église S
 te-Thérèse des Rosoirs à Auxerre ?
LAST-MODIFIED;VALUE=DATE-TIME:20260324T090550Z
LOCATION:Salle paroissiale des Brichères
URL:https://www.yonne.catholique.fr/sainte-reine/actualite-paroissiale/age
 nda/assemblee-paroissiale-extraordinaire-1
END:VEVENT
BEGIN:VTIMEZONE
TZID:Europe/Paris
X-LIC-LOCATION:Europe/Paris
BEGIN:STANDARD
DTSTART;VALUE=DATE-TIME:20251026T020000
TZNAME:CET
TZOFFSETFROM:+0200
TZOFFSETTO:+0100
END:STANDARD
END:VTIMEZONE
END:VCALENDAR
