BEGIN:VCALENDAR
VERSION:2.0
PRODID:-//Plone.org//NONSGML plone.app.event//EN
X-WR-TIMEZONE:Europe/Paris
BEGIN:VEVENT
SUMMARY:Concert de Noël à Chevannes
DTSTART;TZID=Europe/Paris;VALUE=DATE-TIME:20231216T203000
DTSTAMP;VALUE=DATE-TIME:20260423T013734Z
UID:34ad809dbefd4efd82055245ee700cdb@www.yonne.catholique.fr
ATTENDEE;CN="30 exécutants";ROLE=REQ-PARTICIPANT:30 exécutants
CONTACT:ASPC - Mme Chanard Pascale\, 06 19 67 37 95 ou 06 07 62 09 09
CREATED;VALUE=DATE-TIME:20231129T150457Z
DESCRIPTION:Concert de cornemuses et chorale
LAST-MODIFIED;VALUE=DATE-TIME:20231129T150657Z
LOCATION:Eglise de Chevannes
URL:https://www.yonne.catholique.fr/sainte-reine/actualite-paroissiale/age
 nda/concert-a-chevannes
END:VEVENT
BEGIN:VTIMEZONE
TZID:Europe/Paris
X-LIC-LOCATION:Europe/Paris
BEGIN:STANDARD
DTSTART;VALUE=DATE-TIME:20231029T020000
TZNAME:CET
TZOFFSETFROM:+0200
TZOFFSETTO:+0100
END:STANDARD
END:VTIMEZONE
END:VCALENDAR
