BEGIN:VCALENDAR
VERSION:2.0
PRODID:-//Plone.org//NONSGML plone.app.event//EN
X-WR-TIMEZONE:Europe/Paris
BEGIN:VEVENT
SUMMARY:Concert à l'église de Chevannes 
DTSTART;TZID=Europe/Paris;VALUE=DATE-TIME:20221204T160000
DTSTAMP;VALUE=DATE-TIME:20260420T145659Z
UID:ff6cc21f6527495a9cb7f414e5310b2b@www.yonne.catholique.fr
CONTACT:Catherine Berthet-Goichot\, 02 38 31 66 82
CREATED;VALUE=DATE-TIME:20221022T125620Z
DESCRIPTION:Chants sacrés et chants de Noël 
LAST-MODIFIED;VALUE=DATE-TIME:20231127T112856Z
URL:https://www.yonne.catholique.fr/sainte-reine/actualite-paroissiale/age
 nda/concert-a-leglise-de-chevannes
END:VEVENT
BEGIN:VTIMEZONE
TZID:Europe/Paris
X-LIC-LOCATION:Europe/Paris
BEGIN:STANDARD
DTSTART;VALUE=DATE-TIME:20221030T020000
TZNAME:CET
TZOFFSETFROM:+0200
TZOFFSETTO:+0100
END:STANDARD
END:VTIMEZONE
END:VCALENDAR
