BEGIN:VCALENDAR
VERSION:2.0
PRODID:-//Plone.org//NONSGML plone.app.event//EN
X-WR-TIMEZONE:Europe/Paris
BEGIN:VEVENT
SUMMARY:Concert de musique baroque église d'Escamps
DTSTART;TZID=Europe/Paris;VALUE=DATE-TIME:20240705T180000
DTSTAMP;VALUE=DATE-TIME:20260423T230610Z
UID:06a669ae851e4b6590765152f0c792ad@www.yonne.catholique.fr
ATTENDEE;CN="2 exécutants";ROLE=REQ-PARTICIPANT:2 exécutants
CONTACT:Association RVPE
CREATED;VALUE=DATE-TIME:20240603T060633Z
DESCRIPTION:Musique baroque avec Delphine Galou et Ottavio Dantone\n\n
LAST-MODIFIED;VALUE=DATE-TIME:20240603T061521Z
LOCATION:Eglise St Georges d'Escamps
URL:https://www.yonne.catholique.fr/sainte-reine/actualite-paroissiale/age
 nda/concert-de-musique-baroque-eglise-descamps
END:VEVENT
BEGIN:VTIMEZONE
TZID:Europe/Paris
X-LIC-LOCATION:Europe/Paris
BEGIN:DAYLIGHT
DTSTART;VALUE=DATE-TIME:20240331T030000
TZNAME:CEST
TZOFFSETFROM:+0100
TZOFFSETTO:+0200
END:DAYLIGHT
END:VTIMEZONE
END:VCALENDAR
