BEGIN:VCALENDAR
VERSION:2.0
PRODID:-//Plone.org//NONSGML plone.app.event//EN
X-WR-TIMEZONE:Europe/Paris
BEGIN:VEVENT
SUMMARY:Concert de Noël à l'église de Saint-Georges
DTSTART;TZID=Europe/Paris;VALUE=DATE-TIME:20221216T190000
DTSTAMP;VALUE=DATE-TIME:20260420T175227Z
UID:8c0a5123ad0f4b29a6e2763eb0337c9d@www.yonne.catholique.fr
CONTACT:Michel Thévenot\, 03 86 48 11 90
CREATED;VALUE=DATE-TIME:20221128T183356Z
DESCRIPTION:Ce concert est donnée par la chorale de  Saint-Georges "La Ca
 ntarelle"
LAST-MODIFIED;VALUE=DATE-TIME:20221128T183944Z
LOCATION:Eglise Saint-Georges à Saint-Georges sur Baulche 
URL:https://www.yonne.catholique.fr/sainte-reine/actualite-paroissiale/age
 nda/concert-de-noel
END:VEVENT
BEGIN:VTIMEZONE
TZID:Europe/Paris
X-LIC-LOCATION:Europe/Paris
BEGIN:STANDARD
DTSTART;VALUE=DATE-TIME:20221030T020000
TZNAME:CET
TZOFFSETFROM:+0200
TZOFFSETTO:+0100
END:STANDARD
END:VTIMEZONE
END:VCALENDAR
