BEGIN:VCALENDAR
VERSION:2.0
PRODID:-//Plone.org//NONSGML plone.app.event//EN
X-WR-TIMEZONE:Europe/Paris
BEGIN:VEVENT
SUMMARY:Conférence de  Carême
DTSTART;TZID=Europe/Paris;VALUE=DATE-TIME:20260305T203000
DTSTAMP;VALUE=DATE-TIME:20260421T044520Z
UID:1228a140b8f74bceb8065017f35455b6@www.yonne.catholique.fr
ATTENDEE;CN="Mgr Pascal Wintzer";ROLE=REQ-PARTICIPANT:Mgr Pascal Wintzer
CREATED;VALUE=DATE-TIME:20260225T151458Z
DESCRIPTION:'La liturgie fait de nous des hommes nouveaux' par notre évê
 que Mgr Pascal Wintzer
LAST-MODIFIED;VALUE=DATE-TIME:20260225T152123Z
LOCATION:Salle Marie Noël Auxerre
URL:https://www.yonne.catholique.fr/sainte-reine/actualite-paroissiale/age
 nda/conference-de-careme
END:VEVENT
BEGIN:VTIMEZONE
TZID:Europe/Paris
X-LIC-LOCATION:Europe/Paris
BEGIN:STANDARD
DTSTART;VALUE=DATE-TIME:20251026T020000
TZNAME:CET
TZOFFSETFROM:+0200
TZOFFSETTO:+0100
END:STANDARD
END:VTIMEZONE
END:VCALENDAR
