BEGIN:VCALENDAR
VERSION:2.0
PRODID:-//Plone.org//NONSGML plone.app.event//EN
X-WR-TIMEZONE:Europe/Paris
BEGIN:VEVENT
SUMMARY:Conférence 'élections européennes 2019' par les AFC
DTSTART;TZID=Europe/Vienna;VALUE=DATE-TIME:20190131T210000
DTEND;TZID=Europe/Vienna;VALUE=DATE-TIME:20190131T210000
DTSTAMP;VALUE=DATE-TIME:20260421T021533Z
UID:403708cc74cb486c9a69d0f3f5754bf7@www.yonne.catholique.fr
CONTACT:Contact: afc.auxerrois@gmail.com
CREATED;VALUE=DATE-TIME:20190118T101853Z
LAST-MODIFIED;VALUE=DATE-TIME:20191219T105201Z
LOCATION:Salle Marie Noël à AUXERE
URL:https://www.yonne.catholique.fr/sainte-reine/actualite-paroissiale/age
 nda/conference-elections-europeennes-2019-par-les-afc
END:VEVENT
BEGIN:VTIMEZONE
TZID:Europe/Vienna
X-LIC-LOCATION:Europe/Vienna
BEGIN:STANDARD
DTSTART;VALUE=DATE-TIME:20181028T020000
TZNAME:CET
TZOFFSETFROM:+0200
TZOFFSETTO:+0100
END:STANDARD
END:VTIMEZONE
END:VCALENDAR
