BEGIN:VCALENDAR
VERSION:2.0
PRODID:-//Plone.org//NONSGML plone.app.event//EN
X-WR-TIMEZONE:Europe/Paris
BEGIN:VEVENT
SUMMARY:Conférence  sur le théologien Dietrich Bonhoeffer
DTSTART;TZID=Europe/Paris;VALUE=DATE-TIME:20260311T200000
DTSTAMP;VALUE=DATE-TIME:20260424T225820Z
UID:a21b5c4440f94a35a73643a912581c9b@www.yonne.catholique.fr
CREATED;VALUE=DATE-TIME:20260225T152815Z
DESCRIPTION:Conférence  sur le théologien Dietrich Bonhoeffer et la rés
 istance des chrétiens au nazisme en Allemagne pendant la 2e guerre mondia
 le.  
LAST-MODIFIED;VALUE=DATE-TIME:20260316T072650Z
LOCATION:Salle Marie Noël Auxerre
URL:https://www.yonne.catholique.fr/sainte-reine/actualite-paroissiale/age
 nda/conference-sur-le-theologien-dietrich-bonhoefferet-la-resistance-des-c
 hretiens-au-nazisme-en-allemagne-pendant-la-2e-guerre-mondiale
END:VEVENT
BEGIN:VTIMEZONE
TZID:Europe/Paris
X-LIC-LOCATION:Europe/Paris
BEGIN:STANDARD
DTSTART;VALUE=DATE-TIME:20251026T020000
TZNAME:CET
TZOFFSETFROM:+0200
TZOFFSETTO:+0100
END:STANDARD
END:VTIMEZONE
END:VCALENDAR
