BEGIN:VCALENDAR
VERSION:2.0
PRODID:-//Plone.org//NONSGML plone.app.event//EN
X-WR-TIMEZONE:Europe/Paris
BEGIN:VEVENT
SUMMARY:Démarche pénitentielle du temps de Noël
DTSTART;TZID=Europe/Paris;VALUE=DATE-TIME:20221214T190000
DTSTAMP;VALUE=DATE-TIME:20260423T013734Z
UID:acd3d5e9d9f644f4879f3e568056e428@www.yonne.catholique.fr
CREATED;VALUE=DATE-TIME:20221201T184310Z
LAST-MODIFIED;VALUE=DATE-TIME:20221211T075956Z
LOCATION:Eglise Sainte Geneviève Auxerre
URL:https://www.yonne.catholique.fr/sainte-reine/actualite-paroissiale/age
 nda/demarche-penitentielle
END:VEVENT
BEGIN:VTIMEZONE
TZID:Europe/Paris
X-LIC-LOCATION:Europe/Paris
BEGIN:STANDARD
DTSTART;VALUE=DATE-TIME:20221030T020000
TZNAME:CET
TZOFFSETFROM:+0200
TZOFFSETTO:+0100
END:STANDARD
END:VTIMEZONE
END:VCALENDAR
