BEGIN:VCALENDAR
VERSION:2.0
PRODID:-//Plone.org//NONSGML plone.app.event//EN
X-WR-TIMEZONE:Europe/Paris
BEGIN:VEVENT
SUMMARY:Fête du Pardon
DTSTART;TZID=Europe/Paris;VALUE=DATE-TIME:20260328T133000
DTEND;TZID=Europe/Paris;VALUE=DATE-TIME:20260328T173000
DTSTAMP;VALUE=DATE-TIME:20260421T015323Z
UID:9dfb7f71acb64d9ba52e034ab8e292eb@www.yonne.catholique.fr
CREATED;VALUE=DATE-TIME:20260225T161000Z
DESCRIPTION:Chemin du Pardon avec possibilités de recevoir le sacrement d
 e la réconciliation  pour ceux qui le désirent\, avant Pâques.
LAST-MODIFIED;VALUE=DATE-TIME:20260225T161434Z
LOCATION:Cathédrale St Etienne Auxerre
URL:https://www.yonne.catholique.fr/sainte-reine/actualite-paroissiale/age
 nda/fete-du-pardon
END:VEVENT
BEGIN:VTIMEZONE
TZID:Europe/Paris
X-LIC-LOCATION:Europe/Paris
BEGIN:STANDARD
DTSTART;VALUE=DATE-TIME:20251026T020000
TZNAME:CET
TZOFFSETFROM:+0200
TZOFFSETTO:+0100
END:STANDARD
END:VTIMEZONE
END:VCALENDAR
