BEGIN:VCALENDAR
VERSION:2.0
PRODID:-//Plone.org//NONSGML plone.app.event//EN
X-WR-TIMEZONE:Europe/Paris
BEGIN:VEVENT
SUMMARY:Fraternité Espérance 
DTSTART;TZID=Europe/Vienna;VALUE=DATE-TIME:20221025T143000
DTEND;TZID=Europe/Vienna;VALUE=DATE-TIME:20221025T150000
DTSTAMP;VALUE=DATE-TIME:20260422T082549Z
UID:7b03dafbbe8f4bada27da1b3c8f42070@www.yonne.catholique.fr
CONTACT:Dominique et Josette Sibe  \, 06 14 88 59 97.
CREATED;VALUE=DATE-TIME:20180501T145745Z
LAST-MODIFIED;VALUE=DATE-TIME:20220928T090744Z
LOCATION: Salle paroissiale des Brichères
URL:https://www.yonne.catholique.fr/sainte-reine/actualite-paroissiale/age
 nda/fraternite-esperance-4
END:VEVENT
BEGIN:VTIMEZONE
TZID:Europe/Vienna
X-LIC-LOCATION:Europe/Vienna
BEGIN:DAYLIGHT
DTSTART;VALUE=DATE-TIME:20220327T030000
TZNAME:CEST
TZOFFSETFROM:+0100
TZOFFSETTO:+0200
END:DAYLIGHT
END:VTIMEZONE
END:VCALENDAR
