BEGIN:VCALENDAR
VERSION:2.0
PRODID:-//Plone.org//NONSGML plone.app.event//EN
X-WR-TIMEZONE:Europe/Paris
BEGIN:VEVENT
SUMMARY:Information ' bricolages-déco de Noël
DTSTART;TZID=Europe/Paris;VALUE=DATE-TIME:20241201T120000
DTSTAMP;VALUE=DATE-TIME:20260422T132631Z
UID:0c974bafb31b40c9904a0715a0e040fc@www.yonne.catholique.fr
ATTENDEE;CN="Groupe Fraternité-Espérance";ROLE=REQ-PARTICIPANT:Groupe Fr
 aternité-Espérance
CREATED;VALUE=DATE-TIME:20241128T185823Z
DESCRIPTION:Bricolage-Décoration de Noël
LAST-MODIFIED;VALUE=DATE-TIME:20241128T190031Z
LOCATION:Eglise Ste Geneviève Auxerre
URL:https://www.yonne.catholique.fr/sainte-reine/actualite-paroissiale/age
 nda/information-bricolages-deco-de-noel
END:VEVENT
BEGIN:VTIMEZONE
TZID:Europe/Paris
X-LIC-LOCATION:Europe/Paris
BEGIN:STANDARD
DTSTART;VALUE=DATE-TIME:20241027T020000
TZNAME:CET
TZOFFSETFROM:+0200
TZOFFSETTO:+0100
END:STANDARD
END:VTIMEZONE
END:VCALENDAR
