BEGIN:VCALENDAR
VERSION:2.0
PRODID:-//Plone.org//NONSGML plone.app.event//EN
X-WR-TIMEZONE:Europe/Paris
BEGIN:VEVENT
SUMMARY:Messe et bénédiction de St Phal patron de l'église
DTSTART;TZID=Europe/Paris;VALUE=DATE-TIME:20240518T110000
DTSTAMP;VALUE=DATE-TIME:20260419T165439Z
UID:a8edf37973214699a3fcaca7b3f37111@www.yonne.catholique.fr
CREATED;VALUE=DATE-TIME:20240503T173029Z
LAST-MODIFIED;VALUE=DATE-TIME:20240503T173915Z
LOCATION:Egise de Gy l'Evêque
URL:https://www.yonne.catholique.fr/sainte-reine/actualite-paroissiale/age
 nda/messe-et-benediction-de-st-phal-patron-de-leglise
END:VEVENT
BEGIN:VTIMEZONE
TZID:Europe/Paris
X-LIC-LOCATION:Europe/Paris
BEGIN:DAYLIGHT
DTSTART;VALUE=DATE-TIME:20240331T030000
TZNAME:CEST
TZOFFSETFROM:+0100
TZOFFSETTO:+0200
END:DAYLIGHT
END:VTIMEZONE
END:VCALENDAR
