BEGIN:VCALENDAR
VERSION:2.0
PRODID:-//Plone.org//NONSGML plone.app.event//EN
X-WR-TIMEZONE:Europe/Paris
BEGIN:VEVENT
SUMMARY:Messe polonaise/française en hommage d'un ancien résistant polon
 ais XIXème siècle.
DTSTART;TZID=Europe/Vienna;VALUE=DATE-TIME:20211126T180000
DTEND;TZID=Europe/Vienna;VALUE=DATE-TIME:20211126T180000
DTSTAMP;VALUE=DATE-TIME:20260424T165457Z
UID:22a3ddc898a44f6781667cebabf6e839@www.yonne.catholique.fr
CREATED;VALUE=DATE-TIME:20211119T190314Z
DESCRIPTION:Cette année\, une exhumation en vue d'une identification et d
 'un éventuel rapatriement des ossements de Maurycy Mochnacki\, un résist
 ant polonais du XIXe siècle a eu lieu.\n
LAST-MODIFIED;VALUE=DATE-TIME:20211120T065245Z
LOCATION:Eglise Ste Geneviève Auxerre
URL:https://www.yonne.catholique.fr/sainte-reine/actualite-paroissiale/age
 nda/messe-polonaise-francaise-en-hommage-dun-ancien-resistant-polonais-xix
 eme-me-siecle-monsieur
END:VEVENT
BEGIN:VTIMEZONE
TZID:Europe/Vienna
X-LIC-LOCATION:Europe/Vienna
BEGIN:STANDARD
DTSTART;VALUE=DATE-TIME:20211031T020000
TZNAME:CET
TZOFFSETFROM:+0200
TZOFFSETTO:+0100
END:STANDARD
END:VTIMEZONE
END:VCALENDAR
