BEGIN:VCALENDAR
VERSION:2.0
PRODID:-//Plone.org//NONSGML plone.app.event//EN
X-WR-TIMEZONE:Europe/Paris
BEGIN:VEVENT
SUMMARY:Parcours de préparation 'Effusion de l'Esprit Saint' groupe du re
 nouveau La Source
DTSTART;TZID=Europe/Vienna;VALUE=DATE-TIME:20220314T183000
DTEND;TZID=Europe/Vienna;VALUE=DATE-TIME:20220314T193000
DTSTAMP;VALUE=DATE-TIME:20260421T085540Z
UID:bf23c5f87672420b80c984384724b1cb@www.yonne.catholique.fr
CREATED;VALUE=DATE-TIME:20220310T103510Z
DESCRIPTION:Réalisation en Eglise d’un parcours de préparation à une 
 Effusion de l’Esprit Saint  .\n\nIl aura lieu au cours de cinq rencontre
 s successives \, les Lundi  du 7 mars  au 4 avril inclus \, de 18h30 à 19
 h30 \, en  l’église Sainte Geneviève des Brichères à Auxerre \, \n\n
 \nCette préparation  sera assurée par le Groupe de Prière 'La  Source '
  avec la participation de  prêtres .\n
LAST-MODIFIED;VALUE=DATE-TIME:20220310T110954Z
LOCATION:Salle paroissiale des Brichères 
URL:https://www.yonne.catholique.fr/sainte-reine/actualite-paroissiale/age
 nda/parcours-de-preparation-effusion-de-lesprit-groupe-du-renouveau-la-sou
 rce
END:VEVENT
BEGIN:VTIMEZONE
TZID:Europe/Vienna
X-LIC-LOCATION:Europe/Vienna
BEGIN:STANDARD
DTSTART;VALUE=DATE-TIME:20211031T020000
TZNAME:CET
TZOFFSETFROM:+0200
TZOFFSETTO:+0100
END:STANDARD
END:VTIMEZONE
END:VCALENDAR
