BEGIN:VCALENDAR
VERSION:2.0
PRODID:-//Plone.org//NONSGML plone.app.event//EN
X-WR-TIMEZONE:Europe/Paris
BEGIN:VEVENT
SUMMARY:Rencontre avec les parents des enfants d'âge KT inscrits ou à in
 scrire. -Secteurs hauts d'Auxerre et Saint-Georges
DTSTART;TZID=Europe/Vienna;VALUE=DATE-TIME:20210923T193000
DTEND;TZID=Europe/Vienna;VALUE=DATE-TIME:20210923T193000
DTSTAMP;VALUE=DATE-TIME:20260424T225128Z
UID:7d61331665474c67883f794b0a12f9f9@www.yonne.catholique.fr
CONTACT:secretariat.pstereineavdb@gmail.com
CREATED;VALUE=DATE-TIME:20210911T145024Z
DESCRIPTION:Au cours de cette rencontre\, sera présenté le programme de 
 l'année de caté\,  et nous vous remettrons le calendrier.\n
LAST-MODIFIED;VALUE=DATE-TIME:20210911T150207Z
LOCATION:Salle paroissiale des Brichères
URL:https://www.yonne.catholique.fr/sainte-reine/actualite-paroissiale/age
 nda/rencontre-avec-les-parents-des-enfants-dage-kt-inscrits-ou-en-cours-di
 nscription
END:VEVENT
BEGIN:VTIMEZONE
TZID:Europe/Vienna
X-LIC-LOCATION:Europe/Vienna
BEGIN:DAYLIGHT
DTSTART;VALUE=DATE-TIME:20210328T030000
TZNAME:CEST
TZOFFSETFROM:+0100
TZOFFSETTO:+0200
END:DAYLIGHT
END:VTIMEZONE
END:VCALENDAR
