BEGIN:VCALENDAR
VERSION:2.0
PRODID:-//Plone.org//NONSGML plone.app.event//EN
X-WR-TIMEZONE:Europe/Paris
BEGIN:VEVENT
SUMMARY:Repas international
DTSTART;TZID=Europe/Paris;VALUE=DATE-TIME:20250208T190000
DTEND;TZID=Europe/Paris;VALUE=DATE-TIME:20250208T220000
DTSTAMP;VALUE=DATE-TIME:20260422T084507Z
UID:93ee3ff3c23c40299413a5c81201c286@www.yonne.catholique.fr
CONTACT:Jacques-Henri Gerbaux \, 06 28 21 48 14
CREATED;VALUE=DATE-TIME:20250130T135818Z
LAST-MODIFIED;VALUE=DATE-TIME:20250131T075615Z
LOCATION:Salle paroissiale des Brichères à Auxerre
URL:https://www.yonne.catholique.fr/sainte-reine/actualite-paroissiale/age
 nda/repas-international-1
END:VEVENT
BEGIN:VTIMEZONE
TZID:Europe/Paris
X-LIC-LOCATION:Europe/Paris
BEGIN:STANDARD
DTSTART;VALUE=DATE-TIME:20241027T020000
TZNAME:CET
TZOFFSETFROM:+0200
TZOFFSETTO:+0100
END:STANDARD
END:VTIMEZONE
END:VCALENDAR
