BEGIN:VCALENDAR
VERSION:2.0
PRODID:-//Plone.org//NONSGML plone.app.event//EN
X-WR-TIMEZONE:Europe/Paris
BEGIN:VEVENT
SUMMARY:Retraite de 1ère communion 
DTSTART;TZID=Europe/Vienna;VALUE=DATE-TIME:20200314T000000
DTEND;TZID=Europe/Vienna;VALUE=DATE-TIME:20200314T000000
DTSTAMP;VALUE=DATE-TIME:20260425T170454Z
UID:af745e88281d44ca82bb66fdf5380702@www.yonne.catholique.fr
CREATED;VALUE=DATE-TIME:20200224T143726Z
DESCRIPTION:Retraite pour les enfants de la paroisse
LAST-MODIFIED;VALUE=DATE-TIME:20200224T143733Z
LOCATION:Presbytère de Monéteau 
URL:https://www.yonne.catholique.fr/sainte-reine/actualite-paroissiale/age
 nda/retraite-de-1ere-communion
END:VEVENT
BEGIN:VTIMEZONE
TZID:Europe/Vienna
X-LIC-LOCATION:Europe/Vienna
BEGIN:STANDARD
DTSTART;VALUE=DATE-TIME:20191027T020000
TZNAME:CET
TZOFFSETFROM:+0200
TZOFFSETTO:+0100
END:STANDARD
END:VTIMEZONE
END:VCALENDAR
