BEGIN:VCALENDAR
VERSION:2.0
PRODID:-//Plone.org//NONSGML plone.app.event//EN
X-WR-TIMEZONE:Europe/Paris
BEGIN:VEVENT
SUMMARY:Sacrement de la réconciliation (confession)
DTSTART;TZID=Europe/Paris;VALUE=DATE-TIME:20251220T090000
DTSTAMP;VALUE=DATE-TIME:20260420T221546Z
UID:cb41077ee7d04927ae49cf47f2618ef2@www.yonne.catholique.fr
ATTENDEE;CN="Le P. Christophe Champenois tiendra une permanence de 9h à 1
 1h.";ROLE=REQ-PARTICIPANT:Le P. Christophe Champenois tiendra une permanen
 ce de 9h à 11h.
CREATED;VALUE=DATE-TIME:20231206T174648Z
LAST-MODIFIED;VALUE=DATE-TIME:20251127T161521Z
LOCATION:Eglise Sainte Geneviève -Auxerre-
URL:https://www.yonne.catholique.fr/sainte-reine/actualite-paroissiale/age
 nda/sacrement-de-la-reconciliation-confession
END:VEVENT
BEGIN:VTIMEZONE
TZID:Europe/Paris
X-LIC-LOCATION:Europe/Paris
BEGIN:STANDARD
DTSTART;VALUE=DATE-TIME:20251026T020000
TZNAME:CET
TZOFFSETFROM:+0200
TZOFFSETTO:+0100
END:STANDARD
END:VTIMEZONE
END:VCALENDAR
