BEGIN:VCALENDAR
VERSION:2.0
PRODID:-//Plone.org//NONSGML plone.app.event//EN
X-WR-TIMEZONE:Europe/Paris
BEGIN:VEVENT
SUMMARY:Soirée de solidarité avec l'ASSOCIATION ISRAÉLIENNE SADAKA REUT
 \,  PARTENAIRE du CCFD-TERRE SOLIDAIRE\, 
DTSTART;TZID=Europe/Paris;VALUE=DATE-TIME:20230323T190000
DTEND;TZID=Europe/Paris;VALUE=DATE-TIME:20230323T220000
DTSTAMP;VALUE=DATE-TIME:20260420T152503Z
UID:9afced562d78432aac2e26595688a014@www.yonne.catholique.fr
CREATED;VALUE=DATE-TIME:20230228T151459Z
DESCRIPTION:- A partir de 19h\, bol de riz\, pain\, fruits\n- A 19H45\, CO
 NFÉRENCE – DÉBAT   en visio avec le partenaire et la chargée de missi
 on en Israël.      
LAST-MODIFIED;VALUE=DATE-TIME:20230228T153024Z
LOCATION:Salle paroissiale des Brichères
URL:https://www.yonne.catholique.fr/sainte-reine/actualite-paroissiale/age
 nda/soiree-de-solidarite
END:VEVENT
BEGIN:VTIMEZONE
TZID:Europe/Paris
X-LIC-LOCATION:Europe/Paris
BEGIN:STANDARD
DTSTART;VALUE=DATE-TIME:20221030T020000
TZNAME:CET
TZOFFSETFROM:+0200
TZOFFSETTO:+0100
END:STANDARD
END:VTIMEZONE
END:VCALENDAR
