BEGIN:VCALENDAR
VERSION:2.0
PRODID:-//Plone.org//NONSGML plone.app.event//EN
X-WR-TIMEZONE:Europe/Paris
BEGIN:VEVENT
SUMMARY:Veillée de Noël suivie de la messe à Ste Geneviève -Auxerre-
DTSTART;TZID=Europe/Vienna;VALUE=DATE-TIME:20221224T190000
DTSTAMP;VALUE=DATE-TIME:20260420T235252Z
UID:60d8e50677004e519cef779b53b2265d@www.yonne.catholique.fr
CREATED;VALUE=DATE-TIME:20201222T131522Z
LAST-MODIFIED;VALUE=DATE-TIME:20221211T080456Z
LOCATION:Eglise Ste Geneviève Auxerre
URL:https://www.yonne.catholique.fr/sainte-reine/actualite-paroissiale/age
 nda/veillee-de-noel-suivie-de-la-messe-2
END:VEVENT
BEGIN:VTIMEZONE
TZID:Europe/Vienna
X-LIC-LOCATION:Europe/Vienna
BEGIN:STANDARD
DTSTART;VALUE=DATE-TIME:20221030T020000
TZNAME:CET
TZOFFSETFROM:+0200
TZOFFSETTO:+0100
END:STANDARD
END:VTIMEZONE
END:VCALENDAR
