BEGIN:VCALENDAR
VERSION:2.0
PRODID:-//Plone.org//NONSGML plone.app.event//EN
X-WR-TIMEZONE:Europe/Paris
BEGIN:VEVENT
SUMMARY:Avril 2026 : Feuille de Chou PUITS D'HIVER
DTSTART;TZID=Europe/Paris;VALUE=DATE-TIME:20260401T000000
DTEND;TZID=Europe/Paris;VALUE=DATE-TIME:20260430T230000
DTSTAMP;VALUE=DATE-TIME:20260421T045813Z
UID:5f27a43a79ab47c9976f76dd20b1fdb3@www.yonne.catholique.fr
CONTACT:https://www.yonne.catholique.fr/le-puits-d-hiver/acces-rapide/actu
 alite/feuille-de-chou
CREATED;VALUE=DATE-TIME:20260412T111029Z
DESCRIPTION:Nous aurions à cœur que 2026 puisse voir les lumières de la
  Paix\, puissions nous\, chacun\, être artisans de Paix. \nCeci dit\, mê
 me si nous sommes lucides sur l’état de notre monde qui inquiète aujou
 rd’hui nous pourrions être indignés ou décourages et baisser les bras
 . Mais c’est dans notre foi chrétienne que nous pouvons puiser les réc
 onforts nécessaires pour continuer notre chemin dans la confiance et l’
 espérance\, (...)
LAST-MODIFIED;VALUE=DATE-TIME:20260412T111259Z
URL:https://www.yonne.catholique.fr/sainte-trinite/actualite-paroissiale/a
 genda/avril-2026-feuille-de-chou-puits-dhiver
END:VEVENT
BEGIN:VTIMEZONE
TZID:Europe/Paris
X-LIC-LOCATION:Europe/Paris
BEGIN:DAYLIGHT
DTSTART;VALUE=DATE-TIME:20260329T030000
TZNAME:CEST
TZOFFSETFROM:+0100
TZOFFSETTO:+0200
END:DAYLIGHT
END:VTIMEZONE
END:VCALENDAR
