BEGIN:VCALENDAR
VERSION:2.0
PRODID:-//Plone.org//NONSGML plone.app.event//EN
X-WR-TIMEZONE:Europe/Paris
BEGIN:VEVENT
SUMMARY:Café Evangile : Samedi 14 mars de 10h à 11h30
DTSTART;TZID=Europe/Paris;VALUE=DATE-TIME:20260314T100000
DTEND;TZID=Europe/Paris;VALUE=DATE-TIME:20260314T113000
DTSTAMP;VALUE=DATE-TIME:20260422T085109Z
UID:1f3da5c6edf14fb1b5f130bdd76ec464@www.yonne.catholique.fr
CREATED;VALUE=DATE-TIME:20260306T201821Z
LAST-MODIFIED;VALUE=DATE-TIME:20260403T180814Z
LOCATION:Presbytère de Monéteau
URL:https://www.yonne.catholique.fr/sainte-trinite/actualite-paroissiale/a
 genda/cafe-evangile-samedi-14-mars-de-10h-a-11h30
END:VEVENT
BEGIN:VTIMEZONE
TZID:Europe/Paris
X-LIC-LOCATION:Europe/Paris
BEGIN:STANDARD
DTSTART;VALUE=DATE-TIME:20251026T020000
TZNAME:CET
TZOFFSETFROM:+0200
TZOFFSETTO:+0100
END:STANDARD
END:VTIMEZONE
END:VCALENDAR
