BEGIN:VCALENDAR
VERSION:2.0
PRODID:-//Plone.org//NONSGML plone.app.event//EN
X-WR-TIMEZONE:Europe/Paris
BEGIN:VEVENT
SUMMARY:Célébration de prières pour nos défunts reportée
DTSTART;TZID=Europe/Vienna;VALUE=DATE-TIME:20201102T000000
DTEND;TZID=Europe/Vienna;VALUE=DATE-TIME:20201102T000000
DTSTAMP;VALUE=DATE-TIME:20260425T024349Z
UID:e67dd3a32cd1462aa1cc03e6165359aa@www.yonne.catholique.fr
CREATED;VALUE=DATE-TIME:20201030T145035Z
DESCRIPTION:Compte tenu des nouvelles mesures sanitaires\, nous nous voyon
 s dans l'obligation de reporter à une date ultérieure la célébration d
 e prières pour nos défunts\, initialement prévue ce lundi 02 novembre.\
 nNous ne manquerons pas de vous informer lorsqu'une nouvelle date sera dis
 ponible.
LAST-MODIFIED;VALUE=DATE-TIME:20201115T201354Z
URL:https://www.yonne.catholique.fr/sainte-trinite/actualite-paroissiale/a
 genda/celebration-de-prieres-pour-nos-defunts-reportee
END:VEVENT
BEGIN:VTIMEZONE
TZID:Europe/Vienna
X-LIC-LOCATION:Europe/Vienna
BEGIN:STANDARD
DTSTART;VALUE=DATE-TIME:20201025T020000
TZNAME:CET
TZOFFSETFROM:+0200
TZOFFSETTO:+0100
END:STANDARD
END:VTIMEZONE
END:VCALENDAR
