BEGIN:VCALENDAR
VERSION:2.0
PRODID:-//Plone.org//NONSGML plone.app.event//EN
X-WR-TIMEZONE:Europe/Paris
BEGIN:VEVENT
SUMMARY:Décès de Madame Martine BOSSEAUX
DTSTART;TZID=Europe/Paris;VALUE=DATE-TIME:20251117T143000
DTEND;TZID=Europe/Paris;VALUE=DATE-TIME:20251117T153000
DTSTAMP;VALUE=DATE-TIME:20260420T084750Z
UID:9cbcaecc016044828fcfdd4f00a94375@www.yonne.catholique.fr
CREATED;VALUE=DATE-TIME:20251116T214512Z
DESCRIPTION:Les obsèques auront lieu le lundi 17/11/2025 à 14h30 en l'é
 glise de Bleigny le Carreau.
LAST-MODIFIED;VALUE=DATE-TIME:20251120T065030Z
URL:https://www.yonne.catholique.fr/sainte-trinite/actualite-paroissiale/a
 genda/deces-de-madame-martine-bosseaux
END:VEVENT
BEGIN:VTIMEZONE
TZID:Europe/Paris
X-LIC-LOCATION:Europe/Paris
BEGIN:STANDARD
DTSTART;VALUE=DATE-TIME:20251026T020000
TZNAME:CET
TZOFFSETFROM:+0200
TZOFFSETTO:+0100
END:STANDARD
END:VTIMEZONE
END:VCALENDAR
