BEGIN:VCALENDAR
VERSION:2.0
PRODID:-//Plone.org//NONSGML plone.app.event//EN
X-WR-TIMEZONE:Europe/Paris
BEGIN:VEVENT
SUMMARY:Deuxième dimanche de Pâques\, 19 avril 2020\, dimanche de la div
 ine Miséricorde Proposition pour un temps de célébration à la maison
DTSTART;TZID=Europe/Vienna;VALUE=DATE-TIME:20200419T110000
DTEND;TZID=Europe/Vienna;VALUE=DATE-TIME:20200419T120000
DTSTAMP;VALUE=DATE-TIME:20260424T081220Z
UID:6740f1b19ff340b1aa867ea75c005462@www.yonne.catholique.fr
CREATED;VALUE=DATE-TIME:20200417T142356Z
DESCRIPTION:L’eau de la vasque nous rappelle notre baptême. Avec cette 
 eau\, nous nous signons en disant : « Au nom du Père\, et du Fils\, et
  du Saint Esprit. Amen. Alléluia ! »\n
LAST-MODIFIED;VALUE=DATE-TIME:20200425T085220Z
URL:https://www.yonne.catholique.fr/sainte-trinite/actualite-paroissiale/a
 genda/deuxieme-dimanche-de-paques-19-avril-2020-dimanche-de-la-divine-mise
 ricorde-proposition-pour-un-temps-de-celebration-a-la-maison
END:VEVENT
BEGIN:VTIMEZONE
TZID:Europe/Vienna
X-LIC-LOCATION:Europe/Vienna
BEGIN:DAYLIGHT
DTSTART;VALUE=DATE-TIME:20200329T030000
TZNAME:CEST
TZOFFSETFROM:+0100
TZOFFSETTO:+0200
END:DAYLIGHT
END:VTIMEZONE
END:VCALENDAR
