BEGIN:VCALENDAR
VERSION:2.0
PRODID:-//Plone.org//NONSGML plone.app.event//EN
X-WR-TIMEZONE:Europe/Paris
BEGIN:VEVENT
SUMMARY:Dimanche 12 Décembre - Rencontre Eveil à la foi
DTSTART;TZID=Europe/Vienna;VALUE=DATE-TIME:20211212T104500
DTEND;TZID=Europe/Vienna;VALUE=DATE-TIME:20211212T120000
DTSTAMP;VALUE=DATE-TIME:20260420T140436Z
UID:732d0b092eda4aeab3cf662aae0eb7c1@www.yonne.catholique.fr
CREATED;VALUE=DATE-TIME:20211207T064302Z
LAST-MODIFIED;VALUE=DATE-TIME:20211207T064307Z
LOCATION:Salle Saint Cyr à Monéteau
URL:https://www.yonne.catholique.fr/sainte-trinite/actualite-paroissiale/a
 genda/dimanche-12-decembre-rencontre-eveil-a-la-foi
END:VEVENT
BEGIN:VTIMEZONE
TZID:Europe/Vienna
X-LIC-LOCATION:Europe/Vienna
BEGIN:STANDARD
DTSTART;VALUE=DATE-TIME:20211031T020000
TZNAME:CET
TZOFFSETFROM:+0200
TZOFFSETTO:+0100
END:STANDARD
END:VTIMEZONE
END:VCALENDAR
