BEGIN:VCALENDAR
VERSION:2.0
PRODID:-//Plone.org//NONSGML plone.app.event//EN
X-WR-TIMEZONE:Europe/Paris
BEGIN:VEVENT
SUMMARY:Dimanche 19 Janvier 2025 - Eveil à la foi
DTSTART;TZID=Europe/Paris;VALUE=DATE-TIME:20250119T104500
DTEND;TZID=Europe/Paris;VALUE=DATE-TIME:20250119T120000
DTSTAMP;VALUE=DATE-TIME:20260421T044748Z
UID:f93c4c9080294b90894567396c01b0e4@www.yonne.catholique.fr
CREATED;VALUE=DATE-TIME:20241227T102154Z
LAST-MODIFIED;VALUE=DATE-TIME:20241227T102206Z
LOCATION:Salle Saint Cyr à Monéteau
URL:https://www.yonne.catholique.fr/sainte-trinite/actualite-paroissiale/a
 genda/dimanche-19-janvier-2025-eveil-a-la-foi
END:VEVENT
BEGIN:VTIMEZONE
TZID:Europe/Paris
X-LIC-LOCATION:Europe/Paris
BEGIN:STANDARD
DTSTART;VALUE=DATE-TIME:20241027T020000
TZNAME:CET
TZOFFSETFROM:+0200
TZOFFSETTO:+0100
END:STANDARD
END:VTIMEZONE
END:VCALENDAR
