BEGIN:VCALENDAR
VERSION:2.0
PRODID:-//Plone.org//NONSGML plone.app.event//EN
X-WR-TIMEZONE:Europe/Paris
BEGIN:VEVENT
SUMMARY:Dimanche 19 octobre 2025 : Messe Caté à Monéteau
DTSTART;TZID=Europe/Paris;VALUE=DATE-TIME:20251019T110000
DTEND;TZID=Europe/Paris;VALUE=DATE-TIME:20251019T120000
DTSTAMP;VALUE=DATE-TIME:20260424T015415Z
UID:fd51f9152bd44edba59b8abfbde1fd64@www.yonne.catholique.fr
CREATED;VALUE=DATE-TIME:20251005T194722Z
DESCRIPTION:Les enfants arrivent à 10h00 pour l'initiation à la messe su
 ivie de la messe à 11h00.
LAST-MODIFIED;VALUE=DATE-TIME:20251005T195325Z
LOCATION:Eglise de Monéteau
URL:https://www.yonne.catholique.fr/sainte-trinite/actualite-paroissiale/a
 genda/dimanche-19-octobre-2025-messe-cate-a-moneteau
END:VEVENT
BEGIN:VTIMEZONE
TZID:Europe/Paris
X-LIC-LOCATION:Europe/Paris
BEGIN:DAYLIGHT
DTSTART;VALUE=DATE-TIME:20250330T030000
TZNAME:CEST
TZOFFSETFROM:+0100
TZOFFSETTO:+0200
END:DAYLIGHT
END:VTIMEZONE
END:VCALENDAR
