BEGIN:VCALENDAR
VERSION:2.0
PRODID:-//Plone.org//NONSGML plone.app.event//EN
X-WR-TIMEZONE:Europe/Paris
BEGIN:VEVENT
SUMMARY:Dimanche 20 décembre 2020 - 4ème dimanche de l'Avent
DTSTART;TZID=Europe/Vienna;VALUE=DATE-TIME:20201219T150500
DTEND;TZID=Europe/Vienna;VALUE=DATE-TIME:20201219T150500
DTSTAMP;VALUE=DATE-TIME:20260422T025637Z
UID:76bd604a8af34add805ba832adf753ea@www.yonne.catholique.fr
CONTACT:https://spark.adobe.com/page/eXoOnoEtjBt3v/
CREATED;VALUE=DATE-TIME:20201219T140642Z
DESCRIPTION:Pour le 4ème dimanche de l'Avent\, découvrez la bougie de la
  Paix !
LAST-MODIFIED;VALUE=DATE-TIME:20201225T093915Z
URL:https://www.yonne.catholique.fr/sainte-trinite/actualite-paroissiale/a
 genda/dimanche-20-decembre-2020-4eme-dimanche-de-lavent
END:VEVENT
BEGIN:VTIMEZONE
TZID:Europe/Vienna
X-LIC-LOCATION:Europe/Vienna
BEGIN:STANDARD
DTSTART;VALUE=DATE-TIME:20201025T020000
TZNAME:CET
TZOFFSETFROM:+0200
TZOFFSETTO:+0100
END:STANDARD
END:VTIMEZONE
END:VCALENDAR
