BEGIN:VCALENDAR
VERSION:2.0
PRODID:-//Plone.org//NONSGML plone.app.event//EN
X-WR-TIMEZONE:Europe/Paris
BEGIN:VEVENT
SUMMARY:Dimanche 26 avril 2026 : Assemblée paroissiale à 11h30 Appoigny
DTSTART;TZID=Europe/Paris;VALUE=DATE-TIME:20260426T113000
DTEND;TZID=Europe/Paris;VALUE=DATE-TIME:20260426T123000
DTSTAMP;VALUE=DATE-TIME:20260421T075817Z
UID:e3b04d7254404f6eb41543e9d00180d2@www.yonne.catholique.fr
CREATED;VALUE=DATE-TIME:20260412T101017Z
LAST-MODIFIED;VALUE=DATE-TIME:20260415T181721Z
LOCATION:Salle paroissiale d'Appoigny
URL:https://www.yonne.catholique.fr/sainte-trinite/actualite-paroissiale/a
 genda/dimanche-26-avril-2026-assemblee-paroissiale-a-11h30-appoigny
END:VEVENT
BEGIN:VTIMEZONE
TZID:Europe/Paris
X-LIC-LOCATION:Europe/Paris
BEGIN:DAYLIGHT
DTSTART;VALUE=DATE-TIME:20260329T030000
TZNAME:CEST
TZOFFSETFROM:+0100
TZOFFSETTO:+0200
END:DAYLIGHT
END:VTIMEZONE
END:VCALENDAR
