BEGIN:VCALENDAR
VERSION:2.0
PRODID:-//Plone.org//NONSGML plone.app.event//EN
X-WR-TIMEZONE:Europe/Paris
BEGIN:VEVENT
SUMMARY:Changement de date : Sortie à Notre Dame à Paris (le 12/09/26)
DTSTART;TZID=Europe/Paris;VALUE=DATE-TIME:20260912T080000
DTEND;TZID=Europe/Paris;VALUE=DATE-TIME:20260912T090000
DTSTAMP;VALUE=DATE-TIME:20260420T113743Z
UID:aa92fa16872149ce8fe04c389797f89d@www.yonne.catholique.fr
CREATED;VALUE=DATE-TIME:20250928T162118Z
DESCRIPTION:La sortie est reportée du 26 avril au 12 septembre 2026.\nLe 
 déroulement de la journée vous sera communiqué ultérieurement.
LAST-MODIFIED;VALUE=DATE-TIME:20260106T065207Z
LOCATION:Notre Dame à Paris
URL:https://www.yonne.catholique.fr/sainte-trinite/actualite-paroissiale/a
 genda/dimanche-26-avril-2026-sortie-a-notre-dame-a-paris
END:VEVENT
BEGIN:VTIMEZONE
TZID:Europe/Paris
X-LIC-LOCATION:Europe/Paris
BEGIN:DAYLIGHT
DTSTART;VALUE=DATE-TIME:20260329T030000
TZNAME:CEST
TZOFFSETFROM:+0100
TZOFFSETTO:+0200
END:DAYLIGHT
END:VTIMEZONE
END:VCALENDAR
