BEGIN:VCALENDAR
VERSION:2.0
PRODID:-//Plone.org//NONSGML plone.app.event//EN
X-WR-TIMEZONE:Europe/Paris
BEGIN:VEVENT
SUMMARY:Dimanche 3 mai 2020 - Célébration de la Parole
DTSTART;TZID=Europe/Vienna;VALUE=DATE-TIME:20200503T110000
DTEND;TZID=Europe/Vienna;VALUE=DATE-TIME:20200503T120000
DTSTAMP;VALUE=DATE-TIME:20260422T152541Z
UID:b281e051e2664706998af07078010db4@www.yonne.catholique.fr
CREATED;VALUE=DATE-TIME:20200502T153811Z
DESCRIPTION:Ce quatrième dimanche de Pâques\, traditionnellement appelé
  dimanche du Bon Pasteur en raison du passage d’Évangile (Jean 10\, 1-1
 0)\, l’Église est\, comme chaque année\, invitée à prier pour les vo
 cations. En 2020\, ce dimanche tombe en outre le 3 mai\, fête des saints 
 Philippe et Jacques\, apôtres\, premiers appelés de Jésus.
LAST-MODIFIED;VALUE=DATE-TIME:20200606T201758Z
URL:https://www.yonne.catholique.fr/sainte-trinite/actualite-paroissiale/a
 genda/dimanche-3-mai-2020-celebration-de-la-parole
END:VEVENT
BEGIN:VTIMEZONE
TZID:Europe/Vienna
X-LIC-LOCATION:Europe/Vienna
BEGIN:DAYLIGHT
DTSTART;VALUE=DATE-TIME:20200329T030000
TZNAME:CEST
TZOFFSETFROM:+0100
TZOFFSETTO:+0200
END:DAYLIGHT
END:VTIMEZONE
END:VCALENDAR
