BEGIN:VCALENDAR
VERSION:2.0
PRODID:-//Plone.org//NONSGML plone.app.event//EN
X-WR-TIMEZONE:Europe/Paris
BEGIN:VEVENT
SUMMARY:Inscription pour la sortie à Gien le dimanche 10 novembre 2024
DTSTART;TZID=Europe/Paris;VALUE=DATE-TIME:20241110T080000
DTEND;TZID=Europe/Paris;VALUE=DATE-TIME:20241110T190000
DTSTAMP;VALUE=DATE-TIME:20260424T054753Z
UID:6c165fef82cb4e20a09047e419fe8c88@www.yonne.catholique.fr
CREATED;VALUE=DATE-TIME:20241005T183727Z
DESCRIPTION:Inscription à rendre avant le 27 octobre à Martine LE FLOCH 
 ou à Christian LEMAIRE ou à déposer dans la boite aux lettres du presby
 tère (4 place de l'église).\n\nParticipation : 20 € pour les adultes\,
  10 € pour les jeunes de 12 à 18 ans et les étudiants\, gratuit pour l
 es enfants de moins de 12 ans
LAST-MODIFIED;VALUE=DATE-TIME:20241103T110133Z
URL:https://www.yonne.catholique.fr/sainte-trinite/actualite-paroissiale/a
 genda/inscription-pour-la-sortie-a-gien-le-dimanche-10-novembre-2024
END:VEVENT
BEGIN:VTIMEZONE
TZID:Europe/Paris
X-LIC-LOCATION:Europe/Paris
BEGIN:STANDARD
DTSTART;VALUE=DATE-TIME:20241027T020000
TZNAME:CET
TZOFFSETFROM:+0200
TZOFFSETTO:+0100
END:STANDARD
END:VTIMEZONE
END:VCALENDAR
