BEGIN:VCALENDAR
VERSION:2.0
PRODID:-//Plone.org//NONSGML plone.app.event//EN
X-WR-TIMEZONE:Europe/Paris
BEGIN:VEVENT
SUMMARY:Jeudi 08 mai à 18h à Appoigny : messe de supplication présidée
  par Mgr Wintzer
DTSTART;TZID=Europe/Paris;VALUE=DATE-TIME:20250508T180000
DTEND;TZID=Europe/Paris;VALUE=DATE-TIME:20250508T190000
DTSTAMP;VALUE=DATE-TIME:20260422T102935Z
UID:3f9076df3e8b42b4a2bf5089ffc11232@www.yonne.catholique.fr
CREATED;VALUE=DATE-TIME:20250427T191641Z
DESCRIPTION:Suite aux actes de vandalisme qui ont été perpétrés récem
 ment dans la collégiale\, Mgr Pascal Wintzer présidera une messe de supp
 lication\, le jeudi 08 mai à 18h00 en la collégiale d'Appoigny.
LAST-MODIFIED;VALUE=DATE-TIME:20250513T053600Z
LOCATION:Collégiale d'Appoigny
URL:https://www.yonne.catholique.fr/sainte-trinite/actualite-paroissiale/a
 genda/jeudi-08-mai-a-18h-a-appoigny-messe-de-supplication-presidee-par-mgr
 -wintzer
END:VEVENT
BEGIN:VTIMEZONE
TZID:Europe/Paris
X-LIC-LOCATION:Europe/Paris
BEGIN:DAYLIGHT
DTSTART;VALUE=DATE-TIME:20250330T030000
TZNAME:CEST
TZOFFSETFROM:+0100
TZOFFSETTO:+0200
END:DAYLIGHT
END:VTIMEZONE
END:VCALENDAR
