BEGIN:VCALENDAR
VERSION:2.0
PRODID:-//Plone.org//NONSGML plone.app.event//EN
X-WR-TIMEZONE:Europe/Paris
BEGIN:VEVENT
SUMMARY:Journée Caté Vacances - Mardi 25 février 2025
DTSTART;TZID=Europe/Paris;VALUE=DATE-TIME:20250225T093000
DTEND;TZID=Europe/Paris;VALUE=DATE-TIME:20250225T163000
DTSTAMP;VALUE=DATE-TIME:20260419T165439Z
UID:76cccffd11e14807b820a908b87525c9@www.yonne.catholique.fr
CREATED;VALUE=DATE-TIME:20250205T201727Z
LAST-MODIFIED;VALUE=DATE-TIME:20250205T201739Z
LOCATION:Presbytère de Monéteau
URL:https://www.yonne.catholique.fr/sainte-trinite/actualite-paroissiale/a
 genda/journee-cate-vacances-mardi-25-fevrier-2025
END:VEVENT
BEGIN:VTIMEZONE
TZID:Europe/Paris
X-LIC-LOCATION:Europe/Paris
BEGIN:STANDARD
DTSTART;VALUE=DATE-TIME:20241027T020000
TZNAME:CET
TZOFFSETFROM:+0200
TZOFFSETTO:+0100
END:STANDARD
END:VTIMEZONE
END:VCALENDAR
