BEGIN:VCALENDAR
VERSION:2.0
PRODID:-//Plone.org//NONSGML plone.app.event//EN
X-WR-TIMEZONE:Europe/Paris
BEGIN:VEVENT
SUMMARY:Le 06 août à 16h30\, visite guidée de l'église Saint Georges d
 e Chemilly
DTSTART;TZID=Europe/Vienna;VALUE=DATE-TIME:20210806T163000
DTEND;TZID=Europe/Vienna;VALUE=DATE-TIME:20210806T173000
DTSTAMP;VALUE=DATE-TIME:20260420T030231Z
UID:c53d3a6e076c48b4a2b3f01b078ea46c@www.yonne.catholique.fr
CREATED;VALUE=DATE-TIME:20210804T080940Z
DESCRIPTION:Dans le cadre de l'opération 'un jour une église'\, une visi
 te guidée de l'église St Georges de Chemilly sur Yonne aura lieu le VEND
 REDI 6 AOÛT à 16h30. A cette occasion\, vous pourrez découvrir les pein
 tures murales mises à jour en 2009 et restaurées\, et aussi les nombreux
  mobiliers\, tableaux et statues (classés ou inscrits aux monuments histo
 riques)\, tous restaurés\, que contient l'édifice également inscrit aux
  monuments historiques.\nUn film résumant les restaurations sera présent
 é (1/4 d'heure environ)
LAST-MODIFIED;VALUE=DATE-TIME:20210903T053501Z
LOCATION:Chemilly sur Yonne
URL:https://www.yonne.catholique.fr/sainte-trinite/actualite-paroissiale/a
 genda/le-06-aout-a-16h30-visite-guidee-de-leglise-saint-georges-de-chemill
 y
END:VEVENT
BEGIN:VTIMEZONE
TZID:Europe/Vienna
X-LIC-LOCATION:Europe/Vienna
BEGIN:DAYLIGHT
DTSTART;VALUE=DATE-TIME:20210328T030000
TZNAME:CEST
TZOFFSETFROM:+0100
TZOFFSETTO:+0200
END:DAYLIGHT
END:VTIMEZONE
END:VCALENDAR
