BEGIN:VCALENDAR
VERSION:2.0
PRODID:-//Plone.org//NONSGML plone.app.event//EN
X-WR-TIMEZONE:Europe/Paris
BEGIN:VEVENT
SUMMARY:Messe de Noël : lundi 25 décembre à 11h à Seignelay
DTSTART;TZID=Europe/Paris;VALUE=DATE-TIME:20231225T110000
DTEND;TZID=Europe/Paris;VALUE=DATE-TIME:20231225T120000
DTSTAMP;VALUE=DATE-TIME:20260421T051211Z
UID:217c24553fae49f5bdeeaa1c3128e0ae@www.yonne.catholique.fr
CREATED;VALUE=DATE-TIME:20231104T211208Z
LAST-MODIFIED;VALUE=DATE-TIME:20231104T211218Z
LOCATION:Eglise de Seignelay
URL:https://www.yonne.catholique.fr/sainte-trinite/actualite-paroissiale/a
 genda/messe-de-noel-lundi-25-decembre-a-11h-a-seignelay
END:VEVENT
BEGIN:VTIMEZONE
TZID:Europe/Paris
X-LIC-LOCATION:Europe/Paris
BEGIN:STANDARD
DTSTART;VALUE=DATE-TIME:20231029T020000
TZNAME:CET
TZOFFSETFROM:+0200
TZOFFSETTO:+0100
END:STANDARD
END:VTIMEZONE
END:VCALENDAR
