BEGIN:VCALENDAR
VERSION:2.0
PRODID:-//Plone.org//NONSGML plone.app.event//EN
X-WR-TIMEZONE:Europe/Paris
BEGIN:VEVENT
SUMMARY:Rencontre Aumônerie - Vendredi 22 septembre 2023
DTSTART;TZID=Europe/Paris;VALUE=DATE-TIME:20230922T190000
DTEND;TZID=Europe/Paris;VALUE=DATE-TIME:20230922T220000
DTSTAMP;VALUE=DATE-TIME:20260420T001116Z
UID:268898f1929146e98db52b09f0de2d85@www.yonne.catholique.fr
ATTENDEE;CN="Lycéens et collégiens dès la 5ème";ROLE=REQ-PARTICIPANT:L
 ycéens et collégiens dès la 5ème
CONTACT:Yves LE FLOCH\, Kathia et Christian LEMAIRE\, Frédéric BLIN
CREATED;VALUE=DATE-TIME:20230909T183516Z
DESCRIPTION:Les jeunes de l'Aumônerie se réuniront pour la première foi
 s\, vendredi 22 septembre de 19h à 22h.
LAST-MODIFIED;VALUE=DATE-TIME:20230924T201107Z
LOCATION:Presbytère de Monéteau
URL:https://www.yonne.catholique.fr/sainte-trinite/actualite-paroissiale/a
 genda/rencontre-aumonerie-vendredi-22-septembre-2023
END:VEVENT
BEGIN:VTIMEZONE
TZID:Europe/Paris
X-LIC-LOCATION:Europe/Paris
BEGIN:DAYLIGHT
DTSTART;VALUE=DATE-TIME:20230326T030000
TZNAME:CEST
TZOFFSETFROM:+0100
TZOFFSETTO:+0200
END:DAYLIGHT
END:VTIMEZONE
END:VCALENDAR
