BEGIN:VCALENDAR
VERSION:2.0
PRODID:-//Plone.org//NONSGML plone.app.event//EN
X-WR-TIMEZONE:Europe/Paris
BEGIN:VEVENT
SUMMARY:Rencontre Caté - Samedi 15 mars 2025
DTSTART;TZID=Europe/Paris;VALUE=DATE-TIME:20250315T094500
DTEND;TZID=Europe/Paris;VALUE=DATE-TIME:20250315T120000
DTSTAMP;VALUE=DATE-TIME:20260420T144343Z
UID:6ef7070610f44d25b40557a12e9d7da4@www.yonne.catholique.fr
CREATED;VALUE=DATE-TIME:20250205T202019Z
LAST-MODIFIED;VALUE=DATE-TIME:20250205T202032Z
LOCATION:Salle Saint Cyr à Monéteau
URL:https://www.yonne.catholique.fr/sainte-trinite/actualite-paroissiale/a
 genda/rencontre-cate-samedi-15-mars-2025
END:VEVENT
BEGIN:VTIMEZONE
TZID:Europe/Paris
X-LIC-LOCATION:Europe/Paris
BEGIN:STANDARD
DTSTART;VALUE=DATE-TIME:20241027T020000
TZNAME:CET
TZOFFSETFROM:+0200
TZOFFSETTO:+0100
END:STANDARD
END:VTIMEZONE
END:VCALENDAR
