BEGIN:VCALENDAR
VERSION:2.0
PRODID:-//Plone.org//NONSGML plone.app.event//EN
X-WR-TIMEZONE:Europe/Paris
BEGIN:VEVENT
SUMMARY:Rencontre Caté CE1\, CE2 et CM1 - Samedi 22 mai 2021
DTSTART;TZID=Europe/Vienna;VALUE=DATE-TIME:20210522T100000
DTEND;TZID=Europe/Vienna;VALUE=DATE-TIME:20210522T120000
DTSTAMP;VALUE=DATE-TIME:20260420T174953Z
UID:58adbb7e988c4e6493685935ecbd9a2e@www.yonne.catholique.fr
CREATED;VALUE=DATE-TIME:20210501T202824Z
LAST-MODIFIED;VALUE=DATE-TIME:20210502T124001Z
LOCATION:Eglise de Monéteau
URL:https://www.yonne.catholique.fr/sainte-trinite/actualite-paroissiale/a
 genda/rencontre-cate-samedi-22-mai-2021
END:VEVENT
BEGIN:VTIMEZONE
TZID:Europe/Vienna
X-LIC-LOCATION:Europe/Vienna
BEGIN:DAYLIGHT
DTSTART;VALUE=DATE-TIME:20210328T030000
TZNAME:CEST
TZOFFSETFROM:+0100
TZOFFSETTO:+0200
END:DAYLIGHT
END:VTIMEZONE
END:VCALENDAR
