BEGIN:VCALENDAR
VERSION:2.0
PRODID:-//Plone.org//NONSGML plone.app.event//EN
X-WR-TIMEZONE:Europe/Paris
BEGIN:VEVENT
SUMMARY:Rencontre caté : samedi 23 septembre de 9h45 à 12h
DTSTART;TZID=Europe/Paris;VALUE=DATE-TIME:20230923T094500
DTEND;TZID=Europe/Paris;VALUE=DATE-TIME:20230923T120000
DTSTAMP;VALUE=DATE-TIME:20260420T000412Z
UID:493c1d3adefc4b4592619212f9630a95@www.yonne.catholique.fr
CREATED;VALUE=DATE-TIME:20230829T193606Z
DESCRIPTION:Catéchèse pour tous
LAST-MODIFIED;VALUE=DATE-TIME:20230924T201142Z
URL:https://www.yonne.catholique.fr/sainte-trinite/actualite-paroissiale/a
 genda/rencontre-cate-samedi-23-septembre-de-9h45-a-12h
END:VEVENT
BEGIN:VTIMEZONE
TZID:Europe/Paris
X-LIC-LOCATION:Europe/Paris
BEGIN:DAYLIGHT
DTSTART;VALUE=DATE-TIME:20230326T030000
TZNAME:CEST
TZOFFSETFROM:+0100
TZOFFSETTO:+0200
END:DAYLIGHT
END:VTIMEZONE
END:VCALENDAR
